BEGIN:VCALENDAR
VERSION:2.0
PRODID:-//www.gramonet.cz//GramonetCalLib 1.0//EN
CALSCALE:GREGORIAN
METHOD:PUBLISH
BEGIN:VEVENT
SUMMARY:Sladké donuty
LOCATION:DDM, Jeníkovská 222, Čáslav
DTSTART:20220424T000000
DTEND:20220425T000000
UID:2026-04-19-19-30-57@infocaslav.cz
DTSTAMP:20260419T173057
Description:
END:VEVENT
END:VCALENDAR
