BEGIN:VCALENDAR
VERSION:2.0
PRODID:-//www.gramonet.cz//GramonetCalLib 1.0//EN
CALSCALE:GREGORIAN
METHOD:PUBLISH
BEGIN:VEVENT
SUMMARY:Slatiňanské pozastavení
LOCATION:areál jezdecké haly ve Slatiňanech
DTSTART:20240518T000000
DTEND:20240519T000000
UID:2026-04-19-19-34-14@infocaslav.cz
DTSTAMP:20260419T173414
Description:
END:VEVENT
END:VCALENDAR
