BEGIN:VCALENDAR
VERSION:2.0
PRODID:-//www.gramonet.cz//GramonetCalLib 1.0//EN
CALSCALE:GREGORIAN
METHOD:PUBLISH
BEGIN:VEVENT
SUMMARY:Slavnost Sukot
LOCATION:Synagoga v Čáslavi
DTSTART:20231001T000000
DTEND:20231002T000000
UID:2026-04-19-19-32-12@infocaslav.cz
DTSTAMP:20260419T173212
Description:Čáslavská synagoga Vám 1. října nabídne bohatý program 
 v podobě výtvarné dílny pro děti\, ochutnávky tradičních jídel a 
 vystoupení s ukázkami izraelských tanců.
END:VEVENT
END:VCALENDAR
