BEGIN:VCALENDAR
VERSION:2.0
PRODID:-//www.gramonet.cz//GramonetCalLib 1.0//EN
CALSCALE:GREGORIAN
METHOD:PUBLISH
BEGIN:VEVENT
SUMMARY:Slavnosti jara - Lunaparky Václav Šmíd
LOCATION:náměstí Jana Žižky
DTSTART:20220601T000000
DTEND:20220602T000000
UID:2026-04-19-21-07-58@infocaslav.cz
DTSTAMP:20260419T190758
Description:
END:VEVENT
END:VCALENDAR
