BEGIN:VCALENDAR
VERSION:2.0
PRODID:-//www.gramonet.cz//GramonetCalLib 1.0//EN
CALSCALE:GREGORIAN
METHOD:PUBLISH
BEGIN:VEVENT
SUMMARY:Slavnosti lesního rohu
LOCATION:Kostel sv. Marka, Žehušice
DTSTART:20220618T000000
DTEND:20220619T000000
UID:2026-04-19-21-07-12@infocaslav.cz
DTSTAMP:20260419T190712
Description:
END:VEVENT
END:VCALENDAR
