BEGIN:VCALENDAR
VERSION:2.0
PRODID:-//www.gramonet.cz//GramonetCalLib 1.0//EN
CALSCALE:GREGORIAN
METHOD:PUBLISH
BEGIN:VEVENT
SUMMARY:Slavnosti lesního rohu
LOCATION:Bílé Podolí, kostel sv. Václava
DTSTART:20220617T000000
DTEND:20220618T000000
UID:2026-04-19-19-34-44@infocaslav.cz
DTSTAMP:20260419T173444
Description:
END:VEVENT
END:VCALENDAR
