BEGIN:VCALENDAR
VERSION:2.0
PRODID:-//www.gramonet.cz//GramonetCalLib 1.0//EN
CALSCALE:GREGORIAN
METHOD:PUBLISH
BEGIN:VEVENT
SUMMARY:Slavnostní koncert
LOCATION:kostel sv. Petra a Pavla
DTSTART:20230421T000000
DTEND:20230422T000000
UID:2026-04-19-19-32-12@infocaslav.cz
DTSTAMP:20260419T173212
Description:
END:VEVENT
END:VCALENDAR
