BEGIN:VCALENDAR
VERSION:2.0
PRODID:-//www.gramonet.cz//GramonetCalLib 1.0//EN
CALSCALE:GREGORIAN
METHOD:PUBLISH
BEGIN:VEVENT
SUMMARY:Slavnostní otevření Galerie
LOCATION:Jeníkovská 222
DTSTART:20220407T000000
DTEND:20220408T000000
UID:2026-04-19-19-36-44@infocaslav.cz
DTSTAMP:20260419T173644
Description:
END:VEVENT
END:VCALENDAR
