BEGIN:VCALENDAR
VERSION:2.0
PRODID:-//www.gramonet.cz//GramonetCalLib 1.0//EN
CALSCALE:GREGORIAN
METHOD:PUBLISH
BEGIN:VEVENT
SUMMARY:Smích a smrt - vernisáž
LOCATION:Gumárna
DTSTART:20230429T000000
DTEND:20230626T000000
UID:2026-04-19-21-05-31@infocaslav.cz
DTSTAMP:20260419T190531
Description:
END:VEVENT
END:VCALENDAR
