BEGIN:VCALENDAR
VERSION:2.0
PRODID:-//www.gramonet.cz//GramonetCalLib 1.0//EN
CALSCALE:GREGORIAN
METHOD:PUBLISH
BEGIN:VEVENT
SUMMARY:Sobota s pány z Kolína
LOCATION:Městské muzeum Čáslav, Husova 291
DTSTART:20220514T000000
DTEND:20220515T000000
UID:2026-04-19-19-34-32@infocaslav.cz
DTSTAMP:20260419T173432
Description:
END:VEVENT
END:VCALENDAR
