BEGIN:VCALENDAR
VERSION:2.0
PRODID:-//www.gramonet.cz//GramonetCalLib 1.0//EN
CALSCALE:GREGORIAN
METHOD:PUBLISH
BEGIN:VEVENT
SUMMARY:Soboty v Å½iÅ¾kovÄ› sÃ­ni
LOCATION:Å½iÅ¾kova sÃ­Åˆ
DTSTART:20240504T000000
DTEND:20240901T000000
UID:2026-04-19-19-34-35@infocaslav.cz
DTSTAMP:20260419T173435
Description:ChtÄ›li byste zaÅ¾Ã­t Ãºchvatnou prohlÃ­dku v dobovÃ½ch kostÃ½m
 ech a dozvÄ›dÄ›t se zajÃ­mavÃ© informace o husitskÃ©m vojevÅ¯dci Janu Å½iÅ
 ¾kovi? Tak nevÃ¡hejte a zastavte se kaÅ¾dou sobotu od kvÄ›tna do srpna v i
 nfocentru ÄŒÃ¡slav.
END:VEVENT
END:VCALENDAR
