BEGIN:VCALENDAR
VERSION:2.0
PRODID:-//www.gramonet.cz//GramonetCalLib 1.0//EN
CALSCALE:GREGORIAN
METHOD:PUBLISH
BEGIN:VEVENT
SUMMARY:Sólový klavírní koncert - Daniel Jun
LOCATION:Dusíkovo divadlo Čáslav
DTSTART:20250514T000000
DTEND:20250515T000000
UID:2026-04-19-19-33-03@infocaslav.cz
DTSTAMP:20260419T173303
Description:
END:VEVENT
END:VCALENDAR
