BEGIN:VCALENDAR
VERSION:2.0
PRODID:-//www.gramonet.cz//GramonetCalLib 1.0//EN
CALSCALE:GREGORIAN
METHOD:PUBLISH
BEGIN:VEVENT
SUMMARY:Spejbl, Hurvínek a já
LOCATION:Dusíkovo divadlo Čáslav
DTSTART:20251004T000000
DTEND:20251005T000000
UID:2026-04-19-19-26-44@infocaslav.cz
DTSTAMP:20260419T172644
Description:
END:VEVENT
END:VCALENDAR
