BEGIN:VCALENDAR
VERSION:2.0
PRODID:-//www.gramonet.cz//GramonetCalLib 1.0//EN
CALSCALE:GREGORIAN
METHOD:PUBLISH
BEGIN:VEVENT
SUMMARY:Spolu s úsměvem
LOCATION:Hotel Grand Čáslav
DTSTART:20231103T000000
DTEND:20231104T000000
UID:2026-04-19-19-26-12@infocaslav.cz
DTSTAMP:20260419T172612
Description:Oblastní charita Kutná Hora Vás srdečně zve na benefiční
  koncert\, který je věnován dětem s autismem\, ADHD a jinými specific
 kými potřebami. Můžete se těšit na kapely Jablkoň\, Gamba blues ban
 d a mnoho dalších.
END:VEVENT
END:VCALENDAR
