BEGIN:VCALENDAR
VERSION:2.0
PRODID:-//www.gramonet.cz//GramonetCalLib 1.0//EN
CALSCALE:GREGORIAN
METHOD:PUBLISH
BEGIN:VEVENT
SUMMARY:Sportování s Gripeňaty
LOCATION:Zimní stadion
DTSTART:20230705T000000
DTEND:20230706T000000
UID:2026-04-19-19-35-53@infocaslav.cz
DTSTAMP:20260419T173553
Description:
END:VEVENT
END:VCALENDAR
