BEGIN:VCALENDAR
VERSION:2.0
PRODID:-//www.gramonet.cz//GramonetCalLib 1.0//EN
CALSCALE:GREGORIAN
METHOD:PUBLISH
BEGIN:VEVENT
SUMMARY:Sportovní den mládeže
LOCATION:ZŠ Čáslav, nám. Jana Žižky z Trocnova 182
DTSTART:20230915T000000
DTEND:20230916T000000
UID:2026-04-19-19-33-49@infocaslav.cz
DTSTAMP:20260419T173349
Description:
END:VEVENT
END:VCALENDAR
