BEGIN:VCALENDAR
VERSION:2.0
PRODID:-//www.gramonet.cz//GramonetCalLib 1.0//EN
CALSCALE:GREGORIAN
METHOD:PUBLISH
BEGIN:VEVENT
SUMMARY:Sportovní den s koňmi - Kozohlody
LOCATION:Ranč Dalu Kozohlody
DTSTART:20240525T000000
DTEND:20240526T000000
UID:2026-04-19-19-35-50@infocaslav.cz
DTSTAMP:20260419T173550
Description:Ranč Dalu srdečně zve na sportovní den s koňmi 25. 5.  zah
 ájení bude probíhat v 10 hodin.\nVstupenky jsou celodenní a lze je zak
 oupit na místě v den akce. Vstupné: dospělí - 150 Kč (včetně veče
 rní zábavy)\, děti - 100 Kč\, děti do 120 cm - zdarma.
END:VEVENT
END:VCALENDAR
