BEGIN:VCALENDAR
VERSION:2.0
PRODID:-//www.gramonet.cz//GramonetCalLib 1.0//EN
CALSCALE:GREGORIAN
METHOD:PUBLISH
BEGIN:VEVENT
SUMMARY:Sportovní den Vinaře
LOCATION:Vinaře
DTSTART:20230923T000000
DTEND:20230924T000000
UID:2026-04-19-19-34-30@infocaslav.cz
DTSTAMP:20260419T173430
Description:Okrašlovací spolek Vinařský Vás srdečně zve na dětský 
 sportovní den\, který se uskuteční v sobotu 23.9.2023 na starém hři
 ti ve Vinařích.
END:VEVENT
END:VCALENDAR
