BEGIN:VCALENDAR
VERSION:2.0
PRODID:-//www.gramonet.cz//GramonetCalLib 1.0//EN
CALSCALE:GREGORIAN
METHOD:PUBLISH
BEGIN:VEVENT
SUMMARY:Sraz kabrioletů
LOCATION:Žižkovo náměstí
DTSTART:20220619T000000
DTEND:20220620T000000
UID:2026-04-19-19-31-16@infocaslav.cz
DTSTAMP:20260419T173116
Description:
END:VEVENT
END:VCALENDAR
