BEGIN:VCALENDAR
VERSION:2.0
PRODID:-//www.gramonet.cz//GramonetCalLib 1.0//EN
CALSCALE:GREGORIAN
METHOD:PUBLISH
BEGIN:VEVENT
SUMMARY:Srdce na dlani
LOCATION:Kino Miloše Formana, Jeníkovská 138, Nové Město, 286 01 Čás
 lav
DTSTART:20220120T000000
DTEND:20220123T000000
UID:2026-04-19-19-30-07@infocaslav.cz
DTSTAMP:20260419T173007
Description:
END:VEVENT
END:VCALENDAR
