BEGIN:VCALENDAR
VERSION:2.0
PRODID:-//www.gramonet.cz//GramonetCalLib 1.0//EN
CALSCALE:GREGORIAN
METHOD:PUBLISH
BEGIN:VEVENT
SUMMARY:STARÉ POVĚSTI ČESKÉ DNES
LOCATION:Městské muzeum
DTSTART:20220920T000000
DTEND:20220921T000000
UID:2026-04-19-19-34-52@infocaslav.cz
DTSTAMP:20260419T173452
Description:
END:VEVENT
END:VCALENDAR
