BEGIN:VCALENDAR
VERSION:2.0
PRODID:-//www.gramonet.cz//GramonetCalLib 1.0//EN
CALSCALE:GREGORIAN
METHOD:PUBLISH
BEGIN:VEVENT
SUMMARY:Štědrovečerní zastavení
LOCATION:Evangelický kostel Čáslav
DTSTART:20241224T000000
DTEND:20241225T000000
UID:2026-04-19-19-33-00@infocaslav.cz
DTSTAMP:20260419T173300
Description:
END:VEVENT
END:VCALENDAR
