BEGIN:VCALENDAR
VERSION:2.0
PRODID:-//www.gramonet.cz//GramonetCalLib 1.0//EN
CALSCALE:GREGORIAN
METHOD:PUBLISH
BEGIN:VEVENT
SUMMARY:Štefan Margita v Čáslavi
LOCATION:Dusíkovo divadlo Čáslav
DTSTART:20261029T000000
DTEND:20261030T000000
UID:2026-04-19-19-26-56@infocaslav.cz
DTSTAMP:20260419T172656
Description:
END:VEVENT
END:VCALENDAR
