BEGIN:VCALENDAR
VERSION:2.0
PRODID:-//www.gramonet.cz//GramonetCalLib 1.0//EN
CALSCALE:GREGORIAN
METHOD:PUBLISH
BEGIN:VEVENT
SUMMARY:Štístko a Poupěnka - Čáslav Hotel Grand
LOCATION:Hotel Grand Čáslav
DTSTART:20221104T000000
DTEND:20221105T000000
UID:2026-04-19-21-21-35@infocaslav.cz
DTSTAMP:20260419T192135
Description:
END:VEVENT
END:VCALENDAR
