BEGIN:VCALENDAR
VERSION:2.0
PRODID:-//www.gramonet.cz//GramonetCalLib 1.0//EN
CALSCALE:GREGORIAN
METHOD:PUBLISH
BEGIN:VEVENT
SUMMARY:Strašidel se nebojíme
LOCATION:Hotel Grand Čáslav
DTSTART:20241101T000000
DTEND:20241102T000000
UID:2026-04-19-19-33-01@infocaslav.cz
DTSTAMP:20260419T173301
Description:Zpíváme a tančíme s Míšou v pátek 1. 11. 2024 od 17:00 d
 o 18:00 hod\, Hotel Grand Čáslav
END:VEVENT
END:VCALENDAR
