BEGIN:VCALENDAR
VERSION:2.0
PRODID:-//www.gramonet.cz//GramonetCalLib 1.0//EN
CALSCALE:GREGORIAN
METHOD:PUBLISH
BEGIN:VEVENT
SUMMARY:Strašidelné sklepy
LOCATION:Pivovarská restaurace Čáslav
DTSTART:20251031T000000
DTEND:20251109T000000
UID:2026-04-19-19-32-10@infocaslav.cz
DTSTAMP:20260419T173210
Description:
END:VEVENT
END:VCALENDAR
