BEGIN:VCALENDAR
VERSION:2.0
PRODID:-//www.gramonet.cz//GramonetCalLib 1.0//EN
CALSCALE:GREGORIAN
METHOD:PUBLISH
BEGIN:VEVENT
SUMMARY:Strašidelné sklepy
LOCATION:Pivovarská restaurace v Čáslavi
DTSTART:20231026T000000
DTEND:20231111T000000
UID:2026-04-19-21-04-06@infocaslav.cz
DTSTAMP:20260419T190406
Description:Pivovar Čáslav Vás zve na podzimní "strašidelné sklepy".
END:VEVENT
END:VCALENDAR
