BEGIN:VCALENDAR
VERSION:2.0
PRODID:-//www.gramonet.cz//GramonetCalLib 1.0//EN
CALSCALE:GREGORIAN
METHOD:PUBLISH
BEGIN:VEVENT
SUMMARY:Strašidla u pana Mikuláše
LOCATION:Dačického dům v Kutné Hoře
DTSTART:20241023T000000
DTEND:20241024T000000
UID:2026-04-19-21-06-08@infocaslav.cz
DTSTAMP:20260419T190608
Description:
END:VEVENT
END:VCALENDAR
