BEGIN:VCALENDAR
VERSION:2.0
PRODID:-//www.gramonet.cz//GramonetCalLib 1.0//EN
CALSCALE:GREGORIAN
METHOD:PUBLISH
BEGIN:VEVENT
SUMMARY:Středočeský taneční pohár
LOCATION:Hala Bios
DTSTART:20220318T000000
DTEND:20220319T000000
UID:2026-04-19-19-34-22@infocaslav.cz
DTSTAMP:20260419T173422
Description:
END:VEVENT
END:VCALENDAR
