BEGIN:VCALENDAR
VERSION:2.0
PRODID:-//www.gramonet.cz//GramonetCalLib 1.0//EN
CALSCALE:GREGORIAN
METHOD:PUBLISH
BEGIN:VEVENT
SUMMARY:Středověké fortifikace
LOCATION:Nová scéna Dusíkova divadla
DTSTART:20231121T000000
DTEND:20231122T000000
UID:2026-04-19-19-33-24@infocaslav.cz
DTSTAMP:20260419T173324
Description:Muzejní a vlastivědný spolek  „Včela Čáslavská“ zve 
 na přednášku Jana Kypty\, Zdeňka Neustupného a Filipa Lavala STŘEDOV
 ĚKÉ FORTIFIKACE mezi Lomcem a Třebonínem od 17 hodin.
END:VEVENT
END:VCALENDAR
