BEGIN:VCALENDAR
VERSION:2.0
PRODID:-//www.gramonet.cz//GramonetCalLib 1.0//EN
CALSCALE:GREGORIAN
METHOD:PUBLISH
BEGIN:VEVENT
SUMMARY:Středověké meče
LOCATION:Městská knihovna
DTSTART:20240613T000000
DTEND:20240614T000000
UID:2026-04-19-21-04-13@infocaslav.cz
DTSTAMP:20260419T190413
Description:Přednáška 13.6. 2024 od 17 h - Středověké meče jako arch
 eologický\, technologický a kulturněhistorický fenomén
END:VEVENT
END:VCALENDAR
