BEGIN:VCALENDAR
VERSION:2.0
PRODID:-//www.gramonet.cz//GramonetCalLib 1.0//EN
CALSCALE:GREGORIAN
METHOD:PUBLISH
BEGIN:VEVENT
SUMMARY:Street food festival
LOCATION:náměstí Jana Žižky
DTSTART:20220924T000000
DTEND:20220925T000000
UID:2026-04-19-19-36-45@infocaslav.cz
DTSTAMP:20260419T173645
Description:
END:VEVENT
END:VCALENDAR
