BEGIN:VCALENDAR
VERSION:2.0
PRODID:-//www.gramonet.cz//GramonetCalLib 1.0//EN
CALSCALE:GREGORIAN
METHOD:PUBLISH
BEGIN:VEVENT
SUMMARY:Street food festival Třemošnice
LOCATION:koupaliště Třemošnice
DTSTART:20260523T000000
DTEND:20260524T000000
UID:2026-04-19-19-28-03@infocaslav.cz
DTSTAMP:20260419T172803
Description:
END:VEVENT
END:VCALENDAR
