BEGIN:VCALENDAR
VERSION:2.0
PRODID:-//www.gramonet.cz//GramonetCalLib 1.0//EN
CALSCALE:GREGORIAN
METHOD:PUBLISH
BEGIN:VEVENT
SUMMARY:Street food festival
LOCATION:Zámek Kačina, Svatý Mikuláš
DTSTART:20220717T000000
DTEND:20220718T000000
UID:2026-04-19-19-36-52@infocaslav.cz
DTSTAMP:20260419T173652
Description:
END:VEVENT
END:VCALENDAR
