BEGIN:VCALENDAR
VERSION:2.0
PRODID:-//www.gramonet.cz//GramonetCalLib 1.0//EN
CALSCALE:GREGORIAN
METHOD:PUBLISH
BEGIN:VEVENT
SUMMARY:Studijní veletrh
LOCATION:Kulturní dům Lorec, Kutná Hora
DTSTART:20231011T000000
DTEND:20231012T000000
UID:2026-04-19-19-26-21@infocaslav.cz
DTSTAMP:20260419T172621
Description:Veletrh učebních a studijních oborů.
END:VEVENT
END:VCALENDAR
