BEGIN:VCALENDAR
VERSION:2.0
PRODID:-//www.gramonet.cz//GramonetCalLib 1.0//EN
CALSCALE:GREGORIAN
METHOD:PUBLISH
BEGIN:VEVENT
SUMMARY:Summer party
LOCATION:Letní koupaliště Vodranty Čáslav
DTSTART:20250705T000000
DTEND:20250706T000000
UID:2026-04-19-19-30-03@infocaslav.cz
DTSTAMP:20260419T173003
Description:
END:VEVENT
END:VCALENDAR
