BEGIN:VCALENDAR
VERSION:2.0
PRODID:-//www.gramonet.cz//GramonetCalLib 1.0//EN
CALSCALE:GREGORIAN
METHOD:PUBLISH
BEGIN:VEVENT
SUMMARY:Summer party
LOCATION:Koupaliště Vodranty Čáslav
DTSTART:20250816T000000
DTEND:20250817T000000
UID:2026-04-19-19-30-02@infocaslav.cz
DTSTAMP:20260419T173002
Description:
END:VEVENT
END:VCALENDAR
