BEGIN:VCALENDAR
VERSION:2.0
PRODID:-//www.gramonet.cz//GramonetCalLib 1.0//EN
CALSCALE:GREGORIAN
METHOD:PUBLISH
BEGIN:VEVENT
SUMMARY:Svatojánský jarmark v Ronově nad Doubravou
LOCATION:Ronov nad Doubravou
DTSTART:20240629T000000
DTEND:20240630T000000
UID:2026-04-19-19-36-49@infocaslav.cz
DTSTAMP:20260419T173649
Description:
END:VEVENT
END:VCALENDAR
