BEGIN:VCALENDAR
VERSION:2.0
PRODID:-//www.gramonet.cz//GramonetCalLib 1.0//EN
CALSCALE:GREGORIAN
METHOD:PUBLISH
BEGIN:VEVENT
SUMMARY:Svatomartinský lampionový průvod
LOCATION:Kostelní náměstí Čáslav
DTSTART:20241111T000000
DTEND:20241112T000000
UID:2026-04-19-19-34-24@infocaslav.cz
DTSTAMP:20260419T173424
Description:
END:VEVENT
END:VCALENDAR
