BEGIN:VCALENDAR
VERSION:2.0
PRODID:-//www.gramonet.cz//GramonetCalLib 1.0//EN
CALSCALE:GREGORIAN
METHOD:PUBLISH
BEGIN:VEVENT
SUMMARY:Svatomartinský lampionový průvod
LOCATION:Kostelní náměstí 186/2, Čáslav
DTSTART:20251111T000000
DTEND:20251112T000000
UID:2026-04-19-19-34-23@infocaslav.cz
DTSTAMP:20260419T173423
Description:
END:VEVENT
END:VCALENDAR
