BEGIN:VCALENDAR
VERSION:2.0
PRODID:-//www.gramonet.cz//GramonetCalLib 1.0//EN
CALSCALE:GREGORIAN
METHOD:PUBLISH
BEGIN:VEVENT
SUMMARY:Svatomartinský lampionový průvod
LOCATION:nám. Jana Žižky z Trocnova, Čáslav
DTSTART:20211111T000000
DTEND:20211112T000000
UID:2026-04-19-21-05-37@infocaslav.cz
DTSTAMP:20260419T190537
Description:Svatomartinský lampionový průvod se uskuteční dne 11.11.20
 21 od 17.hodin
END:VEVENT
END:VCALENDAR
