BEGIN:VCALENDAR
VERSION:2.0
PRODID:-//www.gramonet.cz//GramonetCalLib 1.0//EN
CALSCALE:GREGORIAN
METHOD:PUBLISH
BEGIN:VEVENT
SUMMARY:Svatoštěpánské koledování
LOCATION:kostel sv. Petra a Pavla
DTSTART:20251226T000000
DTEND:20251227T000000
UID:2026-04-19-19-26-33@infocaslav.cz
DTSTAMP:20260419T172633
Description:
END:VEVENT
END:VCALENDAR
