BEGIN:VCALENDAR
VERSION:2.0
PRODID:-//www.gramonet.cz//GramonetCalLib 1.0//EN
CALSCALE:GREGORIAN
METHOD:PUBLISH
BEGIN:VEVENT
SUMMARY:Svatováclavské slavnosti
LOCATION:Podhořany u Ronova
DTSTART:20230930T000000
DTEND:20231001T000000
UID:2026-04-19-19-36-17@infocaslav.cz
DTSTAMP:20260419T173617
Description:Obec Podhořany u Ronova Vás srdečně zve na Svatováclavské
  slavnosti.
END:VEVENT
END:VCALENDAR
