BEGIN:VCALENDAR
VERSION:2.0
PRODID:-//www.gramonet.cz//GramonetCalLib 1.0//EN
CALSCALE:GREGORIAN
METHOD:PUBLISH
BEGIN:VEVENT
SUMMARY:Světská mafie
LOCATION:Městská knihovna Čáslav
DTSTART:20241010T000000
DTEND:20241011T000000
UID:2026-04-19-21-04-56@infocaslav.cz
DTSTAMP:20260419T190456
Description:Srdečně Vás zveme na Listování knihy Světská mafie za sp
 oluúčasti novináře a autora knihy Jaroslava Kmenty.
END:VEVENT
END:VCALENDAR
