BEGIN:VCALENDAR
VERSION:2.0
PRODID:-//www.gramonet.cz//GramonetCalLib 1.0//EN
CALSCALE:GREGORIAN
METHOD:PUBLISH
BEGIN:VEVENT
SUMMARY:SWAP ve Vinařích
LOCATION:koňský ranč Vinaře
DTSTART:20230507T000000
DTEND:20230508T000000
UID:2026-04-19-19-31-24@infocaslav.cz
DTSTAMP:20260419T173124
Description:
END:VEVENT
END:VCALENDAR
