BEGIN:VCALENDAR
VERSION:2.0
PRODID:-//www.gramonet.cz//GramonetCalLib 1.0//EN
CALSCALE:GREGORIAN
METHOD:PUBLISH
BEGIN:VEVENT
SUMMARY:Tajemství přírody
LOCATION:Výstavní síň
DTSTART:20221011T000000
DTEND:20221121T000000
UID:2026-04-19-19-32-11@infocaslav.cz
DTSTAMP:20260419T173211
Description:
END:VEVENT
END:VCALENDAR
