BEGIN:VCALENDAR
VERSION:2.0
PRODID:-//www.gramonet.cz//GramonetCalLib 1.0//EN
CALSCALE:GREGORIAN
METHOD:PUBLISH
BEGIN:VEVENT
SUMMARY:Tajemství staré bambitky 2
LOCATION:Kino Miloše Formana, Jeníkovská 138/25, 28601
DTSTART:20220528T000000
DTEND:20220529T000000
UID:2026-04-19-19-34-51@infocaslav.cz
DTSTAMP:20260419T173451
Description:
END:VEVENT
END:VCALENDAR
