BEGIN:VCALENDAR
VERSION:2.0
PRODID:-//www.gramonet.cz//GramonetCalLib 1.0//EN
CALSCALE:GREGORIAN
METHOD:PUBLISH
BEGIN:VEVENT
SUMMARY:Tak já letím
LOCATION:Dusíkovo divadlo Čáslav, Masarykova 194/36
DTSTART:20220419T000000
DTEND:20220420T000000
UID:2026-04-19-21-03-20@infocaslav.cz
DTSTAMP:20260419T190320
Description:
END:VEVENT
END:VCALENDAR
