BEGIN:VCALENDAR
VERSION:2.0
PRODID:-//www.gramonet.cz//GramonetCalLib 1.0//EN
CALSCALE:GREGORIAN
METHOD:PUBLISH
BEGIN:VEVENT
SUMMARY:Tanec po strunách
LOCATION:Dusíkovo divadlo
DTSTART:20241009T000000
DTEND:20241010T000000
UID:2026-04-19-19-30-51@infocaslav.cz
DTSTAMP:20260419T173051
Description:
END:VEVENT
END:VCALENDAR
