BEGIN:VCALENDAR
VERSION:2.0
PRODID:-//www.gramonet.cz//GramonetCalLib 1.0//EN
CALSCALE:GREGORIAN
METHOD:PUBLISH
BEGIN:VEVENT
SUMMARY:Tanec pod širým nebem
LOCATION:Česká koruna Čáslav
DTSTART:20240618T000000
DTEND:20240619T000000
UID:2026-04-19-19-31-58@infocaslav.cz
DTSTAMP:20260419T173158
Description:
END:VEVENT
END:VCALENDAR
